BEGIN:VCALENDAR
VERSION:2.0
PRODID:-//Dortmund mit Kind - ECPv6.15.20//NONSGML v1.0//EN
CALSCALE:GREGORIAN
METHOD:PUBLISH
X-WR-CALNAME:Dortmund mit Kind
X-ORIGINAL-URL:https://dortmundmitkind.de
X-WR-CALDESC:Veranstaltungen für Dortmund mit Kind
REFRESH-INTERVAL;VALUE=DURATION:PT1H
X-Robots-Tag:noindex
X-PUBLISHED-TTL:PT1H
BEGIN:VTIMEZONE
TZID:UTC
BEGIN:STANDARD
TZOFFSETFROM:+0000
TZOFFSETTO:+0000
TZNAME:UTC
DTSTART:20240101T000000
END:STANDARD
END:VTIMEZONE
BEGIN:VEVENT
DTSTART;TZID=UTC:20250304T110000
DTEND;TZID=UTC:20250304T123000
DTSTAMP:20260420T103521
CREATED:20241009T074347Z
LAST-MODIFIED:20250103T212736Z
UID:10002690-1741086000-1741091400@dortmundmitkind.de
SUMMARY:Der Zauberer von Oz
DESCRIPTION:von Sergej Gößner • nach Lyman Frank Baum • Ab 8 Jahren \nDoro lebt mit ihrem Vater in Wohnblock 13b am Rande der großen Stadt. Nachts tauscht sie das Grau der Umgebung und das Rauschen der nahen Autobahn gegen die bunte Welt des neuen Handyspiels SMARAGDCITY. Draußen beginnt es zu blitzen\, ein Sturm zieht auf und der leere Korb eines Heißluftballons schlägt an Doros Fenster. Magisch angezogen von einem grünen Licht\, klettert sie hinein\, wird vom Wind davongetragen und landet geradewegs im Land Oz. Zurück nach Hause kommt sie nur mit Hilfe des Zauberers. Dafür muss Doro sich auf den Weg machen und sechs Smaragde gewinnen. Gar nicht so leicht\, denn Oz ist zwar bunt\, aber nicht ungefährlich Unterwegs begegnet sie dem zerstreuten Strohmann\, der Blechfrau mit Liebeskummer und Rostschäden und dem furchtbar furchtsamen Löwen. Gemeinsam werfen sie sich ins Abenteuer. Getreu dem Motto: Alles für Oz – Oz für alle!
URL:https://dortmundmitkind.de/event/der-zauberer-von-oz/2025-03-04/
LOCATION:Theater Dortmund &#8211; Kinder- und Jugendtheater\, Sckellstr. 5-7\, Dortmund\, 44141
CATEGORIES:Bildung,Theater
END:VEVENT
END:VCALENDAR