BEGIN:VCALENDAR
VERSION:2.0
PRODID:-//Dortmund mit Kind - ECPv6.15.20//NONSGML v1.0//EN
CALSCALE:GREGORIAN
METHOD:PUBLISH
X-WR-CALNAME:Dortmund mit Kind
X-ORIGINAL-URL:https://dortmundmitkind.de
X-WR-CALDESC:Veranstaltungen für Dortmund mit Kind
REFRESH-INTERVAL;VALUE=DURATION:PT1H
X-Robots-Tag:noindex
X-PUBLISHED-TTL:PT1H
BEGIN:VTIMEZONE
TZID:UTC
BEGIN:STANDARD
TZOFFSETFROM:+0000
TZOFFSETTO:+0000
TZNAME:UTC
DTSTART:20230101T000000
END:STANDARD
END:VTIMEZONE
BEGIN:VEVENT
DTSTART;TZID=UTC:20241101T120000
DTEND;TZID=UTC:20241101T170000
DTSTAMP:20260420T053732
CREATED:20241021T203558Z
LAST-MODIFIED:20241021T203558Z
UID:10001931-1730462400-1730480400@dortmundmitkind.de
SUMMARY:KINDER HALLOWEEN PARTY
DESCRIPTION:Hüpfburg\, Popcorn\, Zuckerwatte und viele Mystery Kandis für Klein und Groß.
URL:https://dortmundmitkind.de/event/kinder-halloween-party/
LOCATION:shades\, Klönnestraße 75\, Dortmund\, 44143
CATEGORIES:Drinnen
END:VEVENT
END:VCALENDAR