BEGIN:VCALENDAR
VERSION:2.0
PRODID:-//Dortmund mit Kind - ECPv6.15.20//NONSGML v1.0//EN
CALSCALE:GREGORIAN
METHOD:PUBLISH
X-ORIGINAL-URL:https://dortmundmitkind.de
X-WR-CALDESC:Veranstaltungen für Dortmund mit Kind
REFRESH-INTERVAL;VALUE=DURATION:PT1H
X-Robots-Tag:noindex
X-PUBLISHED-TTL:PT1H
BEGIN:VTIMEZONE
TZID:UTC
BEGIN:STANDARD
TZOFFSETFROM:+0000
TZOFFSETTO:+0000
TZNAME:UTC
DTSTART:20230101T000000
END:STANDARD
END:VTIMEZONE
BEGIN:VEVENT
DTSTART;TZID=UTC:20241201T150000
DTEND;TZID=UTC:20241201T163000
DTSTAMP:20260425T131848
CREATED:20241119T131803Z
LAST-MODIFIED:20241119T131803Z
UID:10002457-1733065200-1733070600@dortmundmitkind.de
SUMMARY:Die Prinzessin auf der Erbse
DESCRIPTION:Auch in diesem Advent bringt der Theaterverein Fidelitas wieder einen echten Märchen-Klassiker zur Aufführung: Am 30. November ab 16 Uhr sowie am 1. Dezember ab 15 Uhr präsentiert das Dorstfelder Ensemble Hans Christian Andersens klassische Erzählung von der „Prinzessin auf der Erbse“ im Bürgerhaus am Vogelpothsweg 15.
URL:https://dortmundmitkind.de/event/die-prinzessin-auf-der-erbse/2024-12-01/
LOCATION:Pulsschlag Bürgerhaus\, Vogelpothsweg 15\, Dortmund\, 44149
CATEGORIES:Theater
END:VEVENT
END:VCALENDAR