BEGIN:VCALENDAR
VERSION:2.0
PRODID:-//Dortmund mit Kind - ECPv6.15.20//NONSGML v1.0//EN
CALSCALE:GREGORIAN
METHOD:PUBLISH
X-ORIGINAL-URL:https://dortmundmitkind.de
X-WR-CALDESC:Veranstaltungen für Dortmund mit Kind
REFRESH-INTERVAL;VALUE=DURATION:PT1H
X-Robots-Tag:noindex
X-PUBLISHED-TTL:PT1H
BEGIN:VTIMEZONE
TZID:UTC
BEGIN:STANDARD
TZOFFSETFROM:+0000
TZOFFSETTO:+0000
TZNAME:UTC
DTSTART:20230101T000000
END:STANDARD
END:VTIMEZONE
BEGIN:VEVENT
DTSTART;TZID=UTC:20241103T111500
DTEND;TZID=UTC:20241103T114500
DTSTAMP:20260420T201033
CREATED:20241029T195740Z
LAST-MODIFIED:20241029T195900Z
UID:10001965-1730632500-1730634300@dortmundmitkind.de
SUMMARY:Prinzessin sein? Nein\, danke!
DESCRIPTION:Prinzessin Rosalia hat schlechte Laune. Immer wieder muss sie sich von ihrem Hauslehrer Marquis Stuck anhören\, wie sie als „richtige“ Prinzessin zu sein hat: Wie sie reden\, sitzen\, sich kleiden und verhalten soll. Dazu hat sie aber gar keine Lust und möchte viel lieber alles ganz anders machen. Durch ihren nachhaltigen Widerstand kommt dann auch ihr Hauslehrer ins Grübeln: Gibt es wirklich nur einen Weg\, wie etwas „richtig“ sein kann? In Prinzessin sein? Nein\, danke! ist am Ende nur noch weniges so\, wie es anfangs zu sein schien. Eine Geschichte über Selbstbestimmtheit\, Identitätsfindung und das Hinterfragen aufgezwungener Rollenmuster – erzählt mit bekannten Melodien aus Opern von W. A. Mozart\, Giuseppe Verdi u. a. \nDie Inszenierung ist sowohl in der Oper Dortmund als auch als mobile Produktion in Dortmunder Kindergärten zu sehen. \nWeitere Vorstellung im Opernfoyer Do\, 23.01.25\, 11:00 Uhr (Vorverkaufsstart mit Erscheinen des jeweiligen Monatsleporello)
URL:https://dortmundmitkind.de/event/prinzessin-sein-nein-danke/
LOCATION:Opernhaus Dortmund\, Platz der Alten Synagoge\, Dortmund\, 44137
CATEGORIES:Drinnen
END:VEVENT
END:VCALENDAR