BEGIN:VCALENDAR
VERSION:2.0
PRODID:-//Dortmund mit Kind - ECPv6.15.20//NONSGML v1.0//EN
CALSCALE:GREGORIAN
METHOD:PUBLISH
X-ORIGINAL-URL:https://dortmundmitkind.de
X-WR-CALDESC:Veranstaltungen für Dortmund mit Kind
REFRESH-INTERVAL;VALUE=DURATION:PT1H
X-Robots-Tag:noindex
X-PUBLISHED-TTL:PT1H
BEGIN:VTIMEZONE
TZID:UTC
BEGIN:STANDARD
TZOFFSETFROM:+0000
TZOFFSETTO:+0000
TZNAME:UTC
DTSTART:20230101T000000
END:STANDARD
END:VTIMEZONE
BEGIN:VEVENT
DTSTART;TZID=UTC:20241018T180000
DTEND;TZID=UTC:20241019T080000
DTSTAMP:20260419T152600
CREATED:20241016T054628Z
LAST-MODIFIED:20241016T054628Z
UID:10001889-1729274400-1729324800@dortmundmitkind.de
SUMMARY:Nachts im Museum – Dino-Übernachtung
DESCRIPTION:Ob um Mitternacht die Dinos zum Leben erwachen oder ob nachts Gespenster ihr Unwesen im Museum treiben? Findet es heraus und verbringt eine Nacht im Naturmuseum. \nAlter: 8–12 Jahre.\nAnmeldung erforderlich unter gruppe-naturmuseum@stadtdo.de.\nKosten: 50 € pro Kind
URL:https://dortmundmitkind.de/event/nachts-im-museum-dino-uebernachtung/
LOCATION:Naturmuseum Dortmund\, Münsterstraße 271\, Dortmund\, 44145
CATEGORIES:Drinnen
END:VEVENT
END:VCALENDAR